BEGIN:VCALENDAR
VERSION:2.0
PRODID:-//Texas Fertility Center - ECPv6.15.20//NONSGML v1.0//EN
CALSCALE:GREGORIAN
METHOD:PUBLISH
X-ORIGINAL-URL:https://txfertility.com
X-WR-CALDESC:Events for Texas Fertility Center
REFRESH-INTERVAL;VALUE=DURATION:PT1H
X-Robots-Tag:noindex
X-PUBLISHED-TTL:PT1H
BEGIN:VTIMEZONE
TZID:America/Chicago
BEGIN:DAYLIGHT
TZOFFSETFROM:-0600
TZOFFSETTO:-0500
TZNAME:CDT
DTSTART:20200308T080000
END:DAYLIGHT
BEGIN:STANDARD
TZOFFSETFROM:-0500
TZOFFSETTO:-0600
TZNAME:CST
DTSTART:20201101T070000
END:STANDARD
BEGIN:DAYLIGHT
TZOFFSETFROM:-0600
TZOFFSETTO:-0500
TZNAME:CDT
DTSTART:20210314T080000
END:DAYLIGHT
BEGIN:STANDARD
TZOFFSETFROM:-0500
TZOFFSETTO:-0600
TZNAME:CST
DTSTART:20211107T070000
END:STANDARD
BEGIN:DAYLIGHT
TZOFFSETFROM:-0600
TZOFFSETTO:-0500
TZNAME:CDT
DTSTART:20220313T080000
END:DAYLIGHT
BEGIN:STANDARD
TZOFFSETFROM:-0500
TZOFFSETTO:-0600
TZNAME:CST
DTSTART:20221106T070000
END:STANDARD
END:VTIMEZONE
BEGIN:VEVENT
DTSTART;TZID=America/Chicago:20211216T183000
DTEND;TZID=America/Chicago:20211216T191500
DTSTAMP:20260420T044408
CREATED:20210405T162309Z
LAST-MODIFIED:20240220T224914Z
UID:20874-1639679400-1639682100@txfertility.com
SUMMARY:TFC Webinar Series: Do I Need IVF?
DESCRIPTION:“Do I need IVF?” Learn the answer in this free webinar\nYou’ve heard of in vitro fertilization\, but what is it exactly and do you need it? We can help you find the answers you need to decide whether this fertility treatment is right for you. \nDuring this free webinar\, Texas Fertility Center (TFC) physicians will lead an online talk to provide an overview of the IVF process and explain what types of patients should consider this family-building option. \nWhat to expect during our “Do I Need IVF?” webinar\nDuring the interactive “Do I Need IVF?” webinar\, our Austin fertility doctors dive into the basics of in vitro fertilization and review the types of candidates for IVF. We invite your questions and encourage you to engage in the discussion. \nLike all our Austin fertility webinars\, this interactive session will help you become an informed and empowered patient. This webinar is open to TFC patients and anyone who wants to learn whether IVF is right for them. \nTo provide you with a comprehensive education about whether you should pursue IVF\, our fertility specialists cover a variety of important topics.\n\nFertility issues that IVF can treat\nTransitioning from basic infertility care to IVF\nFertility tests your doctor should perform before IVF\nWhat to expect during the IVF process\, from injectable medications to embryo transfer\nPregnancy rates and live birth rates associated with IVF\n\nSpeakers: \nAnthony Propst MD\n  \n  \n 
URL:https://txfertility.com/event/tfc-webinar-series-do-i-need-ivf-december/
ATTACH;FMTTYPE=image/jpeg:https://txfertility.com/wp-content/uploads/2020/07/WebinarCover-DoINeedIVF-1.jpg
END:VEVENT
BEGIN:VEVENT
DTSTART;TZID=America/Chicago:20211118T183000
DTEND;TZID=America/Chicago:20211118T191500
DTSTAMP:20260420T044408
CREATED:20211029T001501Z
LAST-MODIFIED:20211112T191406Z
UID:21945-1637260200-1637262900@txfertility.com
SUMMARY:TFC Webinar Series: Minimally Invasive Surgery for Infertility
DESCRIPTION:Learn about the role of minimally invasive surgery during our fertility surgery webinar\nNo one ever wants to have surgery. However\, minimally invasive surgery is sometimes necessary to help welcome a healthy baby. The Texas Fertility Center team knows this can be overwhelming\, which is why we’re here to answer all your questions. During our fertility surgery webinar\, an Austin fertility surgeon from our clinic will help you learn the basics.  \nWhen you attend this webinar\, you’ll learn about the different surgical techniques and what types of patients are good candidates for minimally invasive surgery. Anyone who has questions about these topics is welcome to attend\, even if you aren’t a TFC patient. \nWhat will you learn about during the fertility surgery webinar?\nWhen you attend this free webinar\, an Austin fertility surgeon will provide an overview of minimally invasive surgery for infertility. As a result\, you can expect to get answers to the following questions. \n\nHow is minimally invasive surgery different from traditional surgery?\nWhat types of conditions can fertility surgery treat?\nWhat are the different types of minimally invasive surgery?\nWhen might a surgeon recommend robotic-assisted surgery?\nHow minimally invasive surgery benefits patients?\nHow soon can you try to conceive after surgery?\n\nOur team has designed the fertility surgery webinar to help you get the information you need to feel educated and empowered. We invite you to attend this free session so that you can learn about fertility surgery in a stress-free and casual environment. \nReserve your spot today\nIf you’d like to learn more about minimally invasive surgery\, please use the form above to sign up for our fertility surgery webinar. You can also contact us with any questions or if you want to schedule an appointment. \nSpeakers: \nLisa Hansard MD\n  \n  \n 
URL:https://txfertility.com/event/minimally-invasive-surgery-for-infertility/
ATTACH;FMTTYPE=image/jpeg:https://txfertility.com/wp-content/uploads/2021/10/Surgery-Cover.jpg
END:VEVENT
BEGIN:VEVENT
DTSTART;TZID=America/Chicago:20211028T183000
DTEND;TZID=America/Chicago:20211028T191500
DTSTAMP:20260420T044408
CREATED:20210803T183508Z
LAST-MODIFIED:20211006T193218Z
UID:21746-1635445800-1635448500@txfertility.com
SUMMARY:TFC Webinar Series: Fertility 101
DESCRIPTION:Attend our Fertility 101 webinar to learn fertility basics\n\nWhether you keep seeing negative pregnancy tests\, or you just want to be proactive about your fertility\, Texas Fertility Center has the perfect webinar for you. Dr. Kaylen Silverberg will be hosting a free Fertility 101 webinar to help you navigate the sometimes-confusing world of infertility and fertility care. This interactive\, virtual event is a great way to learn the fertility basics you need to know to start or grow your family. \nWhat will Dr. Silverberg discuss during the Fertility 101 webinar?\nDuring this free webinar\, our Austin infertility specialist will answer questions about diagnosing and treating infertility. As a result\, Dr. Silverberg will discuss the following topics.  \n\nFemale versus male infertility\nCommon causes of infertility\nOptimizing natural fertility\nThe initial fertility evaluation\nThe semen analysis\nFertility medications\nFertility treatments\, including IUI and IVF\n\nDr. Silverberg has designed the Fertility 101 webinar to help you walk away feeling informed and empowered about your fertility. This free session is a stress-free and casual way to learn fertility basics and discover how to overcome fertility issues. \nReserve your spot today\nIf you’d like to learn more about fertility basics\, please use the form above to sign up for our Fertility 101 webinar. You can also contact us with any questions or if you want to schedule an appointment. \nSpeakers:\nKaylen Silverberg MD
URL:https://txfertility.com/event/tfc-webinar-series-fertility-101/
ATTACH;FMTTYPE=image/jpeg:https://txfertility.com/wp-content/uploads/2021/03/Fertility101Cover.jpg
END:VEVENT
BEGIN:VEVENT
DTSTART;TZID=America/Chicago:20210916T183000
DTEND;TZID=America/Chicago:20210916T191500
DTSTAMP:20260420T044408
CREATED:20210803T182713Z
LAST-MODIFIED:20210803T182713Z
UID:21743-1631817000-1631819700@txfertility.com
SUMMARY:TFC Webinar Series: Treatment Options for PCOS
DESCRIPTION:Our PCOS webinar can help you take control of polycystic ovary syndrome\n\nDid you know that polycystic ovary syndrome is the most common endocrine disorder in women of reproductive age? While as many as 10% of American women have PCOS\, this condition still isn’t well-understood by the public and even many healthcare professionals. Our Austin infertility doctors are here to help shed some light on this topic with a free PCOS webinar. \nDuring this interactive webinar\, one of our experienced fertility specialists will discuss the basics of polycystic ovary syndrome. From the symptoms of this condition to the different treatment options for PCOS\, you’ll gain the information you need to achieve your health and fertility goals. \nLearn more about our free and interactive PCOS webinar\nThis webinar will start by talking about what polycystic ovary syndrome is and what symptoms it can cause. You’ll also learn about the PCOS diagnosis and treatment process. However\, this webinar won’t just be a lecture because our Austin infertility doctors offer ample time for Q&A and discussion.  \nAs with all our fertility webinars\, our interactive PCOS webinar will help you become informed and feel empowered. This webinar is open to anyone who wants to know more about polycystic ovary syndrome. \nTo help you learn more about PCOS\, this webinar will cover a variety of important topics.\n\nWhat is polycystic ovary syndrome?\nWhat are the symptoms of this condition?\nHow do doctors diagnose PCOS?\nWhat fertility treatments are available for PCOS?\nHow do doctors treat women who aren’t actively trying to welcome a baby?\n\n\nWould you like to learn more about these important PCOS topics? Register for our webinar or contact us to schedule an appointment with one of our Austin infertility doctors. We look forward to helping you gain the information you need about this common and often-misunderstood condition. \nSpeakers: \nErika Munch\, MD
URL:https://txfertility.com/event/tfc-webinar-series-treatment-options-for-pcos/
ATTACH;FMTTYPE=image/jpeg:https://txfertility.com/wp-content/uploads/2021/01/PCOS-Cover.jpg
END:VEVENT
BEGIN:VEVENT
DTSTART;TZID=America/Chicago:20210819T183000
DTEND;TZID=America/Chicago:20210819T191500
DTSTAMP:20260420T044408
CREATED:20210518T155343Z
LAST-MODIFIED:20210518T160012Z
UID:21117-1629397800-1629400500@txfertility.com
SUMMARY:TFC Webinar Series: Your First Fertility Evaluation
DESCRIPTION:Learn what to expect at your first fertility evaluation by attending this free webinar\n\nThinking about scheduling your first fertility appointment\, but unsure of what to expect? Our fertility doctors are here to put your mind at ease by explaining what to expect at your first fertility evaluation. \nDuring this free webinar\, Texas Fertility Center (TFC) physicians will lead an online talk to provide a summary of your first appointment with us. They’ll also explain what happens before and after your visit. \nMore details about our webinar discussing the first fertility evaluation\nDuring the interactive webinar about your first fertility evaluation\, our Austin fertility doctors explain the purpose of this appointment and what to expect during it. We invite your questions and encourage you to engage in the discussion. \nLike all our Austin fertility webinars\, this interactive session will help you become an informed and empowered patient. This webinar is open to anyone who has questions about getting started with fertility care. \nTo provide you with a comprehensive education about what to expect at the first fertility appointment\, our fertility specialists cover a variety of important topics.\n\nWhat to expect before\, during and after your first appointment\nHow to prepare for your first visit to TFC\nWhat fertility issues this evaluation can help identify\nHow our team uses information from your first visit to create a treatment plan\n\nSpeakers:\nAllison Petrini\, MD
URL:https://txfertility.com/event/tfc-webinar-series-your-first-fertility-evaluation-august/
ATTACH;FMTTYPE=image/jpeg:https://txfertility.com/wp-content/uploads/2020/07/FirstEvaluation-Cover.jpg
END:VEVENT
BEGIN:VEVENT
DTSTART;TZID=America/Chicago:20210715T183000
DTEND;TZID=America/Chicago:20210715T191500
DTSTAMP:20260420T044408
CREATED:20210405T162934Z
LAST-MODIFIED:20210405T162934Z
UID:20877-1626373800-1626376500@txfertility.com
SUMMARY:TFC Webinar Series: Should I Freeze My Eggs?
DESCRIPTION:Our free webinar explains how you can pause your biological clock with egg freezing\nWhile it’s true that female fertility decreases with age\, you don’t have to let your biological clock rule your life. Our Austin fertility doctors are seeing more women turn to egg freezing to take control of their fertility and have a baby when they’re ready. \nDuring this free webinar\, a Texas Fertility Center (TFC) physician will lead an online talk about the basics of egg freezing\, including who should think about pursuing it. After this online session\, you’ll have the information you need to decide whether egg freezing is right for you. \nMore details about our egg freezing webinar\nDuring this interactive webinar on egg freezing\, one of our Austin fertility doctors will provide an overview of the process\, from start to finish. We invite your questions and encourage you to engage in the discussion. \nLike all our fertility webinars\, this interactive session will help you become an informed and empowered patient. This webinar is open to anyone who has questions about preserving their fertility with egg freezing. \nTo help you decide whether you should pursue egg freezing\, this webinar will cover a variety of important topics.\n\nWhat is egg freezing and how did it develop?\nWhat does an egg freezing cycle involve?\nWho should consider egg freezing and who shouldn’t?\nWhat happens when you’re ready to conceive with your frozen eggs?\n\nSpeakers: \nSusan Hudson\, MD\n 
URL:https://txfertility.com/event/tfc-webinar-series-should-i-freeze-my-eggs-july/
ATTACH;FMTTYPE=image/jpeg:https://txfertility.com/wp-content/uploads/2020/11/EggFreezing-WebCover.jpg
END:VEVENT
BEGIN:VEVENT
DTSTART;TZID=America/Chicago:20210617T183000
DTEND;TZID=America/Chicago:20210617T191500
DTSTAMP:20260420T044408
CREATED:20210405T183535Z
LAST-MODIFIED:20210405T183651Z
UID:20880-1623954600-1623957300@txfertility.com
SUMMARY:TFC Webinar Series: Exploring Male Infertility
DESCRIPTION:Don’t forget about the guys! Learn all about male infertility\nWhich is more common? Male or female infertility? You might be surprised to learn that male fertility issues are just as common as female ones. Too many people believe the common myth that infertility is just a woman’s problem. That’s why Anthony Propst MD\, one of our highly respected fertility doctors\, is hosting a webinar about the basics of male infertility. \nThis free webinar is a chance for you to learn all about the causes\, diagnosis and treatment of male fertility issues. Dr. Propst will lead an online talk that will give you the information you need to take the next steps on your family-building journey. \nWhat do you need to know about our male infertility webinar?\nThis interactive webinar from Texas Fertility Center is designed to educate and empower you. You’ll learn about the incidence of male infertility and what causes it. Dr. Propst will also discuss how you can get treatment for male fertility issues. Throughout this webinar\, we invite you to ask questions and engage in the discussion. \nThis webinar is open to anyone who has questions about infertility in men and how to overcome it to welcome a healthy baby. \nTo help you learn more about male fertility issues\, this webinar will cover a variety of important topics.\n\nWhat is male infertility\, and how common is it?\nWhat causes fertility issues in men?\nHow do you know if you have infertility as a man?\nAre there ways to naturally improve male fertility?\nWhat treatments are available for male fertility issues?\n\nSpeakers: \nAnthony Propst MD\n  \n  \n 
URL:https://txfertility.com/event/tfc-webinar-series-exploring-male-infertility/
ATTACH;FMTTYPE=image/jpeg:https://txfertility.com/wp-content/uploads/2020/10/MaleInfertility-WebinarCover.jpg
END:VEVENT
BEGIN:VEVENT
DTSTART;TZID=America/Chicago:20210415T183000
DTEND;TZID=America/Chicago:20210415T191500
DTSTAMP:20260420T044408
CREATED:20210326T004519Z
LAST-MODIFIED:20210406T182421Z
UID:20849-1618511400-1618514100@txfertility.com
SUMMARY:TFC Webinar Series: Fertility 101
DESCRIPTION:Attend our Fertility 101 webinar to learn fertility basics\n\nWhether you keep seeing negative pregnancy tests\, or you just want to be proactive about your fertility\, Texas Fertility Center has the perfect webinar for you. Dr. Kaylen Silverberg will be hosting a free Fertility 101 webinar to help you navigate the sometimes-confusing world of infertility and fertility care. This interactive\, virtual event is a great way to learn the fertility basics you need to know to start or grow your family. \nWhat will Dr. Silverberg discuss during the Fertility 101 webinar?\nDuring this free webinar\, our Austin infertility specialist will answer questions about diagnosing and treating infertility. As a result\, Dr. Silverberg will discuss the following topics.  \n\nFemale versus male infertility\nCommon causes of infertility\nOptimizing natural fertility\nThe initial fertility evaluation\nThe semen analysis\nFertility medications\nFertility treatments\, including IUI and IVF\n\nDr. Silverberg has designed the Fertility 101 webinar to help you walk away feeling informed and empowered about your fertility. This free session is a stress-free and casual way to learn fertility basics and discover how to overcome fertility issues. \nReserve your spot today\nIf you’d like to learn more about fertility basics\, please use the form above to sign up for our Fertility 101 webinar. You can also contact us with any questions or if you want to schedule an appointment. \nSpeakers:\nKaylen Silverberg MD
URL:https://txfertility.com/event/fertility-101-webinar/
ATTACH;FMTTYPE=image/jpeg:https://txfertility.com/wp-content/uploads/2021/03/Fertility101Cover.jpg
END:VEVENT
BEGIN:VEVENT
DTSTART;TZID=America/Chicago:20210318T183000
DTEND;TZID=America/Chicago:20210318T191500
DTSTAMP:20260420T044408
CREATED:20210210T200513Z
LAST-MODIFIED:20210216T194622Z
UID:20445-1616092200-1616094900@txfertility.com
SUMMARY:TFC Webinar Series: Your First Fertility Evaluation
DESCRIPTION:Learn what to expect at your first fertility evaluation by attending this free webinar\n\nThinking about scheduling your first fertility appointment\, but unsure of what to expect? Our fertility doctors are here to put your mind at ease by explaining what to expect at your first fertility evaluation. \nDuring this free webinar\, Texas Fertility Center (TFC) physicians will lead an online talk to provide a summary of your first appointment with us. They’ll also explain what happens before and after your visit. \nMore details about our webinar discussing the first fertility evaluation\nDuring the interactive webinar about your first fertility evaluation\, our Austin fertility doctors explain the purpose of this appointment and what to expect during it. We invite your questions and encourage you to engage in the discussion. \nLike all our Austin fertility webinars\, this interactive session will help you become an informed and empowered patient. This webinar is open to anyone who has questions about getting started with fertility care. \nTo provide you with a comprehensive education about what to expect at the first fertility appointment\, our fertility specialists cover a variety of important topics.\n\nWhat to expect before\, during and after your first appointment\nHow to prepare for your first visit to TFC\nWhat fertility issues this evaluation can help identify\nHow our team uses information from your first visit to create a treatment plan\n\nSpeakers:\nAnthony Propst MD
URL:https://txfertility.com/event/your-first-fertility-evaluation/
ATTACH;FMTTYPE=image/jpeg:https://txfertility.com/wp-content/uploads/2020/07/FirstEvaluation-Cover.jpg
END:VEVENT
BEGIN:VEVENT
DTSTART;TZID=America/Chicago:20210225T183000
DTEND;TZID=America/Chicago:20210225T191500
DTSTAMP:20260420T044408
CREATED:20210122T235551Z
LAST-MODIFIED:20210224T164419Z
UID:20338-1614277800-1614280500@txfertility.com
SUMMARY:TFC Webinar Series: Treatment Options for PCOS
DESCRIPTION:Our PCOS webinar can help you take control of polycystic ovary syndrome\n\nDid you know that polycystic ovary syndrome is the most common endocrine disorder in women of reproductive age? While as many as 10% of American women have PCOS\, this condition still isn’t well-understood by the public and even many healthcare professionals. Our Austin infertility doctors are here to help shed some light on this topic with a free PCOS webinar. \nDuring this interactive webinar\, one of our experienced fertility specialists will discuss the basics of polycystic ovary syndrome. From the symptoms of this condition to the different treatment options for PCOS\, you’ll gain the information you need to achieve your health and fertility goals. \nLearn more about our free and interactive PCOS webinar\nThis webinar will start by talking about what polycystic ovary syndrome is and what symptoms it can cause. You’ll also learn about the PCOS diagnosis and treatment process. However\, this webinar won’t just be a lecture because our Austin infertility doctors offer ample time for Q&A and discussion.  \nAs with all our fertility webinars\, our interactive PCOS webinar will help you become informed and feel empowered. This webinar is open to anyone who wants to know more about polycystic ovary syndrome. \nTo help you learn more about PCOS\, this webinar will cover a variety of important topics.\n\nWhat is polycystic ovary syndrome?\nWhat are the symptoms of this condition?\nHow do doctors diagnose PCOS?\nWhat fertility treatments are available for PCOS?\nHow do doctors treat women who aren’t actively trying to welcome a baby?\n\n\nWould you like to learn more about these important PCOS topics? Register for our webinar or contact us to schedule an appointment with one of our Austin infertility doctors. We look forward to helping you gain the information you need about this common and often-misunderstood condition. \nSpeakers: \nSusan Hudson\, MD\nErika Munch\, MD
URL:https://txfertility.com/event/treatment-for-pcos/
ATTACH;FMTTYPE=image/jpeg:https://txfertility.com/wp-content/uploads/2021/01/PCOS-Cover.jpg
END:VEVENT
END:VCALENDAR